BEGIN:VCALENDAR
VERSION:2.0
PRODID:-//LGL - ECPv4.9.9//NONSGML v1.0//EN
CALSCALE:GREGORIAN
METHOD:PUBLISH
X-WR-CALNAME:LGL
X-ORIGINAL-URL:https://lgl.lu
X-WR-CALDESC:Évènements pour LGL
BEGIN:VTIMEZONE
TZID:Europe/Brussels
BEGIN:DAYLIGHT
TZOFFSETFROM:+0100
TZOFFSETTO:+0200
TZNAME:CEST
DTSTART:20200329T010000
END:DAYLIGHT
BEGIN:STANDARD
TZOFFSETFROM:+0200
TZOFFSETTO:+0100
TZNAME:CET
DTSTART:20201025T010000
END:STANDARD
END:VTIMEZONE
BEGIN:VEVENT
DTSTART;TZID=Europe/Brussels:20200114T140000
DTEND;TZID=Europe/Brussels:20200114T173000
DTSTAMP:20200125T033925
CREATED:20191020T084416Z
LAST-MODIFIED:20191020T084416Z
UID:13924-1579010400-1579023000@lgl.lu
SUMMARY:Tournoi d'échecs
DESCRIPTION:Le traditionnel tournoi d’échecs aura lieu dans la salle des fêtes du lycée pour tous les élèves étant régulièrement inscrits à l’activité parascolaire. \n \n
URL:https://lgl.lu/event/tournoi-dechecs-3/
CATEGORIES:Chess
ATTACH;FMTTYPE=image/jpeg:https://lgl.lu/wp-content/uploads/2019/10/chess.jpg
END:VEVENT
END:VCALENDAR